BEGIN:VCALENDAR
VERSION:2.0
PRODID:-//eventon.com NONSGML v1.0//EN
CALSCALE:GREGORIAN
METHOD:PUBLISH
BEGIN:VEVENT
UID:69ea3a55db13e
DTSTAMP:20260423T152717Z
DTSTART:20220301T000000Z
DTEND:20220301T235900Z
LOCATION:Honolulu\,  HI 200 N Vineyard Blvd\,  Honolulu\,  HI 96817
SUMMARY:Hawaii Association of Independent Schools (Honolulu\,  HI)
DESCRIPTION:Hawaii Association of Independent Schools (Honolulu\,  HI)\nhtt
 ps://chasingchildhooddoc.com/events/hawaii-association-of-independent-schoo
 ls-honolulu-hi/
URL:https://chasingchildhooddoc.com/events/hawaii-association-of-independent-schools-honolulu-hi/
END:VEVENT
END:VCALENDAR