BEGIN:VCALENDAR
VERSION:2.0
PRODID:-//eventon.com NONSGML v1.0//EN
CALSCALE:GREGORIAN
METHOD:PUBLISH
BEGIN:VEVENT
UID:69ea39d71e86e
DTSTAMP:20260423T152511Z
DTSTART:20220109T000000Z
DTEND:20220109T235900Z
LOCATION:Los Gatos\,  CA 14855 Oka Rd #100\,  Los Gatos\,  CA 95032
SUMMARY:Jewish Silicon Valley and Yavneh Day School (Palo Alto\,  CA)
DESCRIPTION:Jewish Silicon Valley and Yavneh Day School (Palo Alto\,  CA)\n
 https://chasingchildhooddoc.com/events/jewish-silicon-valley-and-yavneh-day
 -school-palo-alto-ca/
URL:https://chasingchildhooddoc.com/events/jewish-silicon-valley-and-yavneh-day-school-palo-alto-ca/
END:VEVENT
END:VCALENDAR