BEGIN:VCALENDAR
VERSION:2.0
PRODID:-//eventon.com NONSGML v1.0//EN
CALSCALE:GREGORIAN
METHOD:PUBLISH
BEGIN:VEVENT
UID:69ea39e1a584d
DTSTAMP:20260423T152521Z
DTSTART:20211201T000000Z
DTEND:20211201T235900Z
LOCATION:Glendale\,  CA 1500 N Verdugo Rd\,  Glendale\,  CA 91208
SUMMARY:Glendale Community College (Glendale\,  CA)
DESCRIPTION:Glendale Community College (Glendale\,  CA)\nhttps://chasingchi
 ldhooddoc.com/events/glendale-community-college-glendale-ca/
URL:https://chasingchildhooddoc.com/events/glendale-community-college-glendale-ca/
END:VEVENT
END:VCALENDAR