BEGIN:VCALENDAR
VERSION:2.0
PRODID:-//eventon.com NONSGML v1.0//EN
CALSCALE:GREGORIAN
METHOD:PUBLISH
BEGIN:VEVENT
UID:69ea3a0bad701
DTSTAMP:20260423T152603Z
DTSTART:20211113T000000Z
DTEND:20211113T235900Z
LOCATION:Colorado Springs\,  CO 2727 N Cascade Ave #140\,  Colorado Springs\,  CO 80907
SUMMARY:Rocky Mountain Women’s Film Festival (Colorado Springs\,  CO)
DESCRIPTION:Rocky Mountain Women’s Film Festival (Colorado Springs\,  CO)
 \nhttps://chasingchildhooddoc.com/events/rocky-mountain-womens-film-festiva
 l-colorado-springs-co/
URL:https://chasingchildhooddoc.com/events/rocky-mountain-womens-film-festival-colorado-springs-co/
END:VEVENT
END:VCALENDAR