BEGIN:VCALENDAR
VERSION:2.0
PRODID:-//eventon.com NONSGML v1.0//EN
CALSCALE:GREGORIAN
METHOD:PUBLISH
BEGIN:VEVENT
UID:69ea39e0bd1bb
DTSTAMP:20260423T152520Z
DTSTART:20211104T000000Z
DTEND:20211104T235900Z
LOCATION:
SUMMARY:Liberated Learners (International)
DESCRIPTION:Liberated Learners (International)\nhttps://chasingchildhooddoc
 .com/events/liberated-learners-international/
URL:https://chasingchildhooddoc.com/events/liberated-learners-international/
END:VEVENT
END:VCALENDAR