BEGIN:VCALENDAR
VERSION:2.0
PRODID:-//eventon.com NONSGML v1.0//EN
CALSCALE:GREGORIAN
METHOD:PUBLISH
BEGIN:VEVENT
UID:69ea39e3db70b
DTSTAMP:20260423T152523Z
DTSTART:20211020T000000Z
DTEND:20211020T235900Z
LOCATION:New York\,  NY 27 Barrow St\,  New York\,  NY 10014
SUMMARY:Barrow Street Nursery School (New York\,  NY)
DESCRIPTION:Barrow Street Nursery School (New York\,  NY)\nhttps://chasingc
 hildhooddoc.com/events/barrow-street-nursery-school-new-york-ny/
URL:https://chasingchildhooddoc.com/events/barrow-street-nursery-school-new-york-ny/
END:VEVENT
END:VCALENDAR