BEGIN:VCALENDAR
VERSION:2.0
PRODID:-//eventon.com NONSGML v1.0//EN
CALSCALE:GREGORIAN
METHOD:PUBLISH
BEGIN:VEVENT
UID:69ea3b436e990
DTSTAMP:20260423T153115Z
DTSTART:20211018T000000Z
DTEND:20211018T235900Z
LOCATION:Midlothian\,  VA
SUMMARY:Chesterfield County Public Schools (Midlothian\,  VA)
DESCRIPTION:Chesterfield County Public Schools (Midlothian\,  VA)\nhttps://
 chasingchildhooddoc.com/events/chesterfield-county-public-schools-midlothia
 n-va/
URL:https://chasingchildhooddoc.com/events/chesterfield-county-public-schools-midlothian-va/
END:VEVENT
END:VCALENDAR