BEGIN:VCALENDAR
VERSION:2.0
PRODID:-//eventon.com NONSGML v1.0//EN
CALSCALE:GREGORIAN
METHOD:PUBLISH
BEGIN:VEVENT
UID:69ea3a8ac1aa1
DTSTAMP:20260423T152810Z
DTSTART:20211017T000000Z
DTEND:20211017T235900Z
LOCATION:Columbia\,  MD 10221 Wincopin Cir STE 200\,  Columbia\,  MD 21044
SUMMARY:Horizon Foundation’s Mental Health Film Series (Columbia\,  MD)
DESCRIPTION:Horizon Foundation’s Mental Health Film Series (Columbia\,  M
 D)\nhttps://chasingchildhooddoc.com/events/horizon-foundations-mental-healt
 h-film-series-columbia-md/
URL:https://chasingchildhooddoc.com/events/horizon-foundations-mental-health-film-series-columbia-md/
END:VEVENT
END:VCALENDAR