BEGIN:VCALENDAR
VERSION:2.0
PRODID:-//eventon.com NONSGML v1.0//EN
CALSCALE:GREGORIAN
METHOD:PUBLISH
BEGIN:VEVENT
UID:69ea3a7843aed
DTSTAMP:20260423T152752Z
DTSTART:20211019T000000Z
DTEND:20211019T235900Z
LOCATION:Newburyport\,  MA 40 Milk St\,  Newburyport\,  MA 01950
SUMMARY:Newburyport Youth Services (Newburyport\,  MA)
DESCRIPTION:Newburyport Youth Services (Newburyport\,  MA)\nhttps://chasing
 childhooddoc.com/events/newburyport-youth-services-newburyport-ma/
URL:https://chasingchildhooddoc.com/events/newburyport-youth-services-newburyport-ma/
END:VEVENT
END:VCALENDAR