BEGIN:VCALENDAR
VERSION:2.0
PRODID:-//eventon.com NONSGML v1.0//EN
CALSCALE:GREGORIAN
METHOD:PUBLISH
BEGIN:VEVENT
UID:69ea3a856a3ce
DTSTAMP:20260423T152805Z
DTSTART:20211014T000000Z
DTEND:20211014T235900Z
LOCATION:Traverse City\,  MI 5363 N Long Lake Rd\,  Traverse City\,  MI 49685
SUMMARY:Montessori Children’s House Grand Traverse (Traverse City\,  MI)
DESCRIPTION:Montessori Children’s House Grand Traverse (Traverse City\,  
 MI)\nhttps://chasingchildhooddoc.com/events/montessori-childrens-house-gran
 d-traverse-traverse-city-mi/
URL:https://chasingchildhooddoc.com/events/montessori-childrens-house-grand-traverse-traverse-city-mi/
END:VEVENT
END:VCALENDAR