BEGIN:VCALENDAR
VERSION:2.0
PRODID:-//eventon.com NONSGML v1.0//EN
CALSCALE:GREGORIAN
METHOD:PUBLISH
BEGIN:VEVENT
UID:69ea39ca4f649
DTSTAMP:20260423T152458Z
DTSTART:20211007T000000Z
DTEND:20211007T235900Z
LOCATION:
SUMMARY:Las Madres Neighborhood Playgroups (Silicon Valley\,  CA)
DESCRIPTION:Las Madres Neighborhood Playgroups (Silicon Valley\,  CA)\nhttp
 s://chasingchildhooddoc.com/events/las-madres-neighborhood-playgroups-silic
 on-valley-ca/
URL:https://chasingchildhooddoc.com/events/las-madres-neighborhood-playgroups-silicon-valley-ca/
END:VEVENT
END:VCALENDAR