BEGIN:VCALENDAR
VERSION:2.0
PRODID:-//eventon.com NONSGML v1.0//EN
CALSCALE:GREGORIAN
METHOD:PUBLISH
BEGIN:VEVENT
UID:69ea3a294e137
DTSTAMP:20260423T152633Z
DTSTART:20211005T000000Z
DTEND:20211005T235900Z
LOCATION:San Rafael\,  CA 395 Doherty Dr\,  Larkspur\,  CA 94939
SUMMARY:Tam Union High School District Wellness Center (San Rafael\,  CA)
DESCRIPTION:Tam Union High School District Wellness Center (San Rafael\,  C
 A)\nhttps://chasingchildhooddoc.com/events/tam-union-high-school-district-w
 ellness-center-san-rafael-ca/
URL:https://chasingchildhooddoc.com/events/tam-union-high-school-district-wellness-center-san-rafael-ca/
END:VEVENT
END:VCALENDAR