BEGIN:VCALENDAR
VERSION:2.0
PRODID:-//eventon.com NONSGML v1.0//EN
CALSCALE:GREGORIAN
METHOD:PUBLISH
BEGIN:VEVENT
UID:69ea3a52b891a
DTSTAMP:20260423T152714Z
DTSTART:20210929T000000Z
DTEND:20210929T235900Z
LOCATION:
SUMMARY:The College Board\,  Virtual
DESCRIPTION:The College Board\,  Virtual\nhttps://chasingchildhooddoc.com/e
 vents/the-college-board-virtual/
URL:https://chasingchildhooddoc.com/events/the-college-board-virtual/
END:VEVENT
END:VCALENDAR