BEGIN:VCALENDAR
VERSION:2.0
PRODID:-//eventon.com NONSGML v1.0//EN
CALSCALE:GREGORIAN
METHOD:PUBLISH
BEGIN:VEVENT
UID:69ea3a522c183
DTSTAMP:20260423T152714Z
DTSTART:20210928T000000Z
DTEND:20210928T235900Z
LOCATION:Palo Alto\,  CA 4000 Middlefield Rd\,  Palo Alto\,  CA 94303
SUMMARY:Imagination Lab School & Center for Children and Youth (Palo Alto\,  CA)
DESCRIPTION:Imagination Lab School &#038; Center for Children and Youth (Pa
 lo Alto\,  CA)\nhttps://chasingchildhooddoc.com/events/imagination-lab-scho
 ol-center-for-children-and-youth-palo-alto-ca/
URL:https://chasingchildhooddoc.com/events/imagination-lab-school-center-for-children-and-youth-palo-alto-ca/
END:VEVENT
END:VCALENDAR