BEGIN:VCALENDAR
VERSION:2.0
PRODID:-//eventon.com NONSGML v1.0//EN
CALSCALE:GREGORIAN
METHOD:PUBLISH
BEGIN:VEVENT
UID:69ea3a9b5e9b0
DTSTAMP:20260423T152827Z
DTSTART:20210924T000000Z
DTEND:20210924T235900Z
LOCATION:New Orleans\,  LA 2231 Arts St\,  New Orleans\,  LA 70117
SUMMARY:Dat School (New Orleans\,  LA)
DESCRIPTION:Dat School (New Orleans\,  LA)\nhttps://chasingchildhooddoc.com
 /events/dat-school-new-orleans-la/
URL:https://chasingchildhooddoc.com/events/dat-school-new-orleans-la/
END:VEVENT
END:VCALENDAR