BEGIN:VCALENDAR
VERSION:2.0
PRODID:-//eventon.com NONSGML v1.0//EN
CALSCALE:GREGORIAN
METHOD:PUBLISH
BEGIN:VEVENT
UID:69ea39e0bcf3b
DTSTAMP:20260423T152520Z
DTSTART:20220427
DTEND:20220428
LOCATION:
SUMMARY:Los Gatos Nursery School (Los Gatos\,  CA)
DESCRIPTION:Los Gatos Nursery School (Los Gatos\,  CA)\nhttps://chasingchil
 dhooddoc.com/events/los-gatos-nursery-school-los-gatos-ca/
URL:https://chasingchildhooddoc.com/events/los-gatos-nursery-school-los-gatos-ca/
END:VEVENT
END:VCALENDAR