BEGIN:VCALENDAR
VERSION:2.0
PRODID:-//eventon.com NONSGML v1.0//EN
CALSCALE:GREGORIAN
METHOD:PUBLISH
BEGIN:VEVENT
UID:69ea3b028a3d7
DTSTAMP:20260423T153010Z
DTSTART:20220504
DTEND:20220505
LOCATION:
SUMMARY:Duck's Nest Preschool (Oakland\,  CA)
DESCRIPTION:Duck's Nest Preschool (Oakland\,  CA)\nhttps://chasingchildhood
 doc.com/events/ducks-nest-preschool-oakland-ca/
URL:https://chasingchildhooddoc.com/events/ducks-nest-preschool-oakland-ca/
END:VEVENT
END:VCALENDAR