BEGIN:VCALENDAR
VERSION:2.0
PRODID:-//eventon.com NONSGML v1.0//EN
CALSCALE:GREGORIAN
METHOD:PUBLISH
BEGIN:VEVENT
UID:69ea3a106089d
DTSTAMP:20260423T152608Z
DTSTART:20220406
DTEND:20220407
LOCATION:
SUMMARY:New Canaan Cares (New Canaan\,  CT)
DESCRIPTION:New Canaan Cares (New Canaan\,  CT)\nhttps://chasingchildhooddo
 c.com/events/new-canaan-cares-new-canaan-ct/
URL:https://chasingchildhooddoc.com/events/new-canaan-cares-new-canaan-ct/
END:VEVENT
END:VCALENDAR