BEGIN:VCALENDAR
VERSION:2.0
PRODID:-//eventon.com NONSGML v1.0//EN
CALSCALE:GREGORIAN
METHOD:PUBLISH
BEGIN:VEVENT
UID:69ea3a1165412
DTSTAMP:20260423T152609Z
DTSTART:20220303
DTEND:20220304
LOCATION:
SUMMARY:Gibson City-Melvin-Sibley Community Unit School District 5 (Gibson City\,  IL)
DESCRIPTION:Gibson City-Melvin-Sibley Community Unit School District 5 (Gib
 son City\,  IL)\nhttps://chasingchildhooddoc.com/events/gibson-city-melvin-
 sibley-community-unit-school-district-5-gibson-city-il/
URL:https://chasingchildhooddoc.com/events/gibson-city-melvin-sibley-community-unit-school-district-5-gibson-city-il/
END:VEVENT
END:VCALENDAR