BEGIN:VCALENDAR
VERSION:2.0
PRODID:-//eventon.com NONSGML v1.0//EN
CALSCALE:GREGORIAN
METHOD:PUBLISH
BEGIN:VEVENT
UID:69ea3a261682d
DTSTAMP:20260423T152630Z
DTSTART:20220406
DTEND:20220407
LOCATION:
SUMMARY:Fairfield University (Fairfield\,  CT)
DESCRIPTION:Fairfield University (Fairfield\,  CT)\nhttps://chasingchildhoo
 ddoc.com/events/fairfield-university-fairfield-ct/
URL:https://chasingchildhooddoc.com/events/fairfield-university-fairfield-ct/
END:VEVENT
END:VCALENDAR