BEGIN:VCALENDAR
VERSION:2.0
PRODID:-//eventon.com NONSGML v1.0//EN
CALSCALE:GREGORIAN
METHOD:PUBLISH
BEGIN:VEVENT
UID:69ea3a85377f0
DTSTAMP:20260423T152805Z
DTSTART:20220401
DTEND:20220402
LOCATION:
SUMMARY:PS 312 (Brooklyn\,  NY)
DESCRIPTION:PS 312 (Brooklyn\,  NY)\nhttps://chasingchildhooddoc.com/events
 /ps-312-brooklyn-ny/
URL:https://chasingchildhooddoc.com/events/ps-312-brooklyn-ny/
END:VEVENT
END:VCALENDAR