BEGIN:VCALENDAR
VERSION:2.0
PRODID:-//eventon.com NONSGML v1.0//EN
CALSCALE:GREGORIAN
METHOD:PUBLISH
BEGIN:VEVENT
UID:69ea3a507fa7d
DTSTAMP:20260423T152712Z
DTSTART:20220428
DTEND:20220429
LOCATION:
SUMMARY:Sunscreen Film Festival
DESCRIPTION:April 28 &#8211; May 1\,  2022 Chasing Childhood will screen on
  Sunday May 1\,  2022 from 12:30-2:00 pm ET at the AMC Sundial Theater #2. 
 Screening information here: https://sunscreenfilmfestival2022.sched.com/eve
 nt/y5SA &nbsp;\nhttps://chasingchildhooddoc.com/events/sunscreen-film-festi
 val/
URL:https://chasingchildhooddoc.com/events/sunscreen-film-festival/
END:VEVENT
END:VCALENDAR