BEGIN:VCALENDAR
VERSION:2.0
PRODID:-//eventon.com NONSGML v1.0//EN
CALSCALE:GREGORIAN
METHOD:PUBLISH
BEGIN:VEVENT
UID:69ea3a55538bd
DTSTAMP:20260423T152717Z
DTSTART:20220325
DTEND:20220326
LOCATION:
SUMMARY:Maryland International Film Festival
DESCRIPTION:Maryland International Film Festival March 25-27\,  2022 More i
 nformation here: https://www.marylandiff.org/ &nbsp;\nhttps://chasingchildh
 ooddoc.com/events/maryland-international-film-festival/
URL:https://chasingchildhooddoc.com/events/maryland-international-film-festival/
END:VEVENT
END:VCALENDAR