BEGIN:VCALENDAR
VERSION:2.0
PRODID:-//eventon.com NONSGML v1.0//EN
CALSCALE:GREGORIAN
METHOD:PUBLISH
BEGIN:VEVENT
UID:69ea3a0a965a3
DTSTAMP:20260423T152602Z
DTSTART:20220228
DTEND:20220301
LOCATION:Bronx\,  NY 5250 Fieldston Rd\,  Bronx\,  NY 10471
SUMMARY:Riverdale Country School (Bronx\,  NY)
DESCRIPTION:Riverdale Country School (Bronx\,  NY)\nhttps://chasingchildhoo
 ddoc.com/events/riverdale-country-school-bronx-ny/
URL:https://chasingchildhooddoc.com/events/riverdale-country-school-bronx-ny/
END:VEVENT
END:VCALENDAR