BEGIN:VCALENDAR
VERSION:2.0
PRODID:-//eventon.com NONSGML v1.0//EN
CALSCALE:GREGORIAN
METHOD:PUBLISH
BEGIN:VEVENT
UID:69ea3a526d1ec
DTSTAMP:20260423T152714Z
DTSTART:20220310
DTEND:20220311
LOCATION:Omaha Film Festival
SUMMARY:2022 Omaha Film Festival (Omaha\,  NE)
DESCRIPTION:Omaha Film Festival In-person screenings: March 10-12 Virtual s
 creenings: March 13 &#8211; April 2 &nbsp; Watch Chasing Childhood here thr
 ough April 2: https://watch.eventive.org/off22/play/621219d23f77ea0045df899
 0 &nbsp;\nhttps://chasingchildhooddoc.com/events/2022-omaha-film-festival-o
 maha-ne/
URL:https://chasingchildhooddoc.com/events/2022-omaha-film-festival-omaha-ne/
END:VEVENT
END:VCALENDAR