BEGIN:VCALENDAR
VERSION:2.0
PRODID:-//eventon.com NONSGML v1.0//EN
CALSCALE:GREGORIAN
METHOD:PUBLISH
BEGIN:VEVENT
UID:69ea3aec0ab64
DTSTAMP:20260423T152948Z
DTSTART:20220328
DTEND:20220329
LOCATION:Camarillo\,  CA
SUMMARY:CSU Channel Islands (Camarillo\,  CA)
DESCRIPTION:CSU Channel Islands (Camarillo\,  CA)\nhttps://chasingchildhood
 doc.com/events/csu-channel-islands-camarillo-ca/
URL:https://chasingchildhooddoc.com/events/csu-channel-islands-camarillo-ca/
END:VEVENT
END:VCALENDAR