BEGIN:VCALENDAR
VERSION:2.0
PRODID:-//eventon.com NONSGML v1.0//EN
CALSCALE:GREGORIAN
METHOD:PUBLISH
BEGIN:VEVENT
UID:69ea39d267b8c
DTSTAMP:20260423T152506Z
DTSTART:20220325
DTEND:20220326
LOCATION:Nolensville\,  TN
SUMMARY:Adventure Hollow (Nolensville\,  TN)
DESCRIPTION:Adventure Hollow (Nolensville\,  TN)\nhttps://chasingchildhoodd
 oc.com/events/adventure-hollow-nolensville-tn/
URL:https://chasingchildhooddoc.com/events/adventure-hollow-nolensville-tn/
END:VEVENT
END:VCALENDAR