BEGIN:VCALENDAR
VERSION:2.0
PRODID:-//eventon.com NONSGML v1.0//EN
CALSCALE:GREGORIAN
METHOD:PUBLISH
BEGIN:VEVENT
UID:69ea3af1cc004
DTSTAMP:20260423T152953Z
DTSTART:20220310
DTEND:20220311
LOCATION:Tacoma\,  WA
SUMMARY:Charles Wright Academy (Tacoma\,  WA)
DESCRIPTION:Charles Wright Academy (Tacoma\,  WA)\nhttps://chasingchildhood
 doc.com/events/charles-wright-academy-tacoma-wa/
URL:https://chasingchildhooddoc.com/events/charles-wright-academy-tacoma-wa/
END:VEVENT
END:VCALENDAR