BEGIN:VCALENDAR
VERSION:2.0
PRODID:-//eventon.com NONSGML v1.0//EN
CALSCALE:GREGORIAN
METHOD:PUBLISH
BEGIN:VEVENT
UID:69ea3a79b7ed6
DTSTAMP:20260423T152753Z
DTSTART:20220308
DTEND:20220309
LOCATION:Healdsburg\,  CA
SUMMARY:The Healdsburg School (Healdsburg\,  CA)
DESCRIPTION:The Healdsburg School (Healdsburg\,  CA)\nhttps://chasingchildh
 ooddoc.com/events/the-healdsburg-school-healdsburg-ca/
URL:https://chasingchildhooddoc.com/events/the-healdsburg-school-healdsburg-ca/
END:VEVENT
END:VCALENDAR