BEGIN:VCALENDAR
VERSION:2.0
PRODID:-//eventon.com NONSGML v1.0//EN
CALSCALE:GREGORIAN
METHOD:PUBLISH
BEGIN:VEVENT
UID:69ea3a9d91d16
DTSTAMP:20260423T152829Z
DTSTART:20220303
DTEND:20220304
LOCATION:Winnetka\,  IL 768 Oak St\,  Winnetka\,  IL 60093
SUMMARY:Winnetka School District 36 (Winnetka\,  IL)
DESCRIPTION:Winnetka School District 36 (Winnetka\,  IL)\nhttps://chasingch
 ildhooddoc.com/events/winnetka-school-district-36-winnetka-il-2/
URL:https://chasingchildhooddoc.com/events/winnetka-school-district-36-winnetka-il-2/
END:VEVENT
END:VCALENDAR