BEGIN:VCALENDAR
VERSION:2.0
PRODID:-//eventon.com NONSGML v1.0//EN
CALSCALE:GREGORIAN
METHOD:PUBLISH
BEGIN:VEVENT
UID:69ea39dee2269
DTSTAMP:20260423T152518Z
DTSTART:20220423
DTEND:20220424
LOCATION:Bunker Hill Community College Boston\,  MA 250 Rutherford Ave\,  Boston\,  MA 02129
SUMMARY:Bunker Hill Community College (Boston\,  MA)
DESCRIPTION:Bunker Hill Community College (Boston\,  MA)\nhttps://chasingch
 ildhooddoc.com/events/bunker-hill-community-college-boston-ma/
URL:https://chasingchildhooddoc.com/events/bunker-hill-community-college-boston-ma/
END:VEVENT
END:VCALENDAR