BEGIN:VCALENDAR
VERSION:2.0
PRODID:-//eventon.com NONSGML v1.0//EN
CALSCALE:GREGORIAN
METHOD:PUBLISH
BEGIN:VEVENT
UID:69ea3a09092c2
DTSTAMP:20260423T152601Z
DTSTART:20220407
DTEND:20220408
LOCATION:Far Hills Country Day School Far Hills\,  NJ 697 US-202\,  Far Hills\,  NJ 07931
SUMMARY:Far Hills Country Day School (Far Hills\,  NJ)
DESCRIPTION:Far Hills Country Day School (Far Hills\,  NJ)\nhttps://chasing
 childhooddoc.com/events/far-hills-country-day-school-far-hills-nj/
URL:https://chasingchildhooddoc.com/events/far-hills-country-day-school-far-hills-nj/
END:VEVENT
END:VCALENDAR