BEGIN:VCALENDAR
VERSION:2.0
PRODID:-//eventon.com NONSGML v1.0//EN
CALSCALE:GREGORIAN
METHOD:PUBLISH
BEGIN:VEVENT
UID:69ea39dcc511a
DTSTAMP:20260423T152516Z
DTSTART:20220309
DTEND:20220310
LOCATION:Dover-Sherborn Challenge Success Dover\,  MA 9 Junction St\,  Dover\,  MA 02030
SUMMARY:Dover-Sherborn Challenge Success (Dover\,  MA)
DESCRIPTION:Dover-Sherborn Challenge Success (Dover\,  MA)\nhttps://chasing
 childhooddoc.com/events/dover-sherborn-challenge-success-dover-ma/
URL:https://chasingchildhooddoc.com/events/dover-sherborn-challenge-success-dover-ma/
END:VEVENT
END:VCALENDAR