BEGIN:VCALENDAR
VERSION:2.0
PRODID:-//eventon.com NONSGML v1.0//EN
CALSCALE:GREGORIAN
METHOD:PUBLISH
BEGIN:VEVENT
UID:69ea39e49a95c
DTSTAMP:20260423T152524Z
DTSTART:20220308
DTEND:20220309
LOCATION:St. Joseph&#039;s College 245 Clinton Ave\,  Brooklyn\,  NY 11205
SUMMARY:St. Joseph's College (New York\,  NY)
DESCRIPTION:St. Joseph's College (New York\,  NY)\nhttps://chasingchildhood
 doc.com/events/winnetka-school-district-36-winnetka-il/
URL:https://chasingchildhooddoc.com/events/winnetka-school-district-36-winnetka-il/
END:VEVENT
END:VCALENDAR