BEGIN:VCALENDAR
VERSION:2.0
PRODID:-//eventon.com NONSGML v1.0//EN
CALSCALE:GREGORIAN
METHOD:PUBLISH
BEGIN:VEVENT
UID:69ea39de82ccb
DTSTAMP:20260423T152518Z
DTSTART:20220303
DTEND:20220304
LOCATION:Deerfield\,  IL Deerfield\,  IL
SUMMARY:Deerfield Public Schools District 109 (Deerfield\,  IL)
DESCRIPTION:Deerfield Public Schools District 109 (Deerfield\,  IL)\nhttps:
 //chasingchildhooddoc.com/events/deerfield-public-schools-district-109-deer
 field-il/
URL:https://chasingchildhooddoc.com/events/deerfield-public-schools-district-109-deerfield-il/
END:VEVENT
END:VCALENDAR