BEGIN:VCALENDAR
VERSION:2.0
PRODID:-//eventon.com NONSGML v1.0//EN
CALSCALE:GREGORIAN
METHOD:PUBLISH
BEGIN:VEVENT
UID:69ea39e45b2c1
DTSTAMP:20260423T152524Z
DTSTART:20220301
DTEND:20220302
LOCATION:Baltimore\,  MD Baltimore\,  MD
SUMMARY:Park School Parents' Association (Baltimore\,  MD)
DESCRIPTION:Park School Parents' Association (Baltimore\,  MD)\nhttps://cha
 singchildhooddoc.com/events/park-school-parents-association-baltimore-md/
URL:https://chasingchildhooddoc.com/events/park-school-parents-association-baltimore-md/
END:VEVENT
END:VCALENDAR