BEGIN:VCALENDAR
VERSION:2.0
PRODID:-//eventon.com NONSGML v1.0//EN
CALSCALE:GREGORIAN
METHOD:PUBLISH
BEGIN:VEVENT
UID:69ea39d229990
DTSTAMP:20260423T152506Z
DTSTART:20220301
DTEND:20220302
LOCATION:Bloomfield Hills\,  MI Bloomfield Hills\,  MI
SUMMARY:Cranbrook Schools (Bloomfield Hills\,  MI)
DESCRIPTION:Cranbrook Schools (Bloomfield Hills\,  MI)\nhttps://chasingchil
 dhooddoc.com/events/crankbrook-schools-bloomfield-hills-mi/
URL:https://chasingchildhooddoc.com/events/crankbrook-schools-bloomfield-hills-mi/
END:VEVENT
END:VCALENDAR