BEGIN:VCALENDAR
VERSION:2.0
PRODID:-//eventon.com NONSGML v1.0//EN
CALSCALE:GREGORIAN
METHOD:PUBLISH
BEGIN:VEVENT
UID:69ea3a0f587de
DTSTAMP:20260423T152607Z
DTSTART:20220228
DTEND:20220301
LOCATION:Lewisburg\,  PA Lewisburg\,  PA
SUMMARY:Bucknell University (Lewisburg\,  PA)
DESCRIPTION:Bucknell University (Lewisburg\,  PA)\nhttps://chasingchildhood
 doc.com/events/bucknell-university-lewisburg-pa/
URL:https://chasingchildhooddoc.com/events/bucknell-university-lewisburg-pa/
END:VEVENT
END:VCALENDAR