BEGIN:VCALENDAR
VERSION:2.0
PRODID:-//eventon.com NONSGML v1.0//EN
CALSCALE:GREGORIAN
METHOD:PUBLISH
BEGIN:VEVENT
UID:69ea3a0ed316d
DTSTAMP:20260423T152606Z
DTSTART:20220215
DTEND:20220216
LOCATION:Denver 1164 S Josephine St
SUMMARY:St. Vincent De Paul Catholic School Denver\,  CO
DESCRIPTION:St. Vincent De Paul Catholic School Denver\,  CO\nhttps://chasi
 ngchildhooddoc.com/events/st-vincent-de-paul-catholic-school-denver-co/
URL:https://chasingchildhooddoc.com/events/st-vincent-de-paul-catholic-school-denver-co/
END:VEVENT
END:VCALENDAR