BEGIN:VCALENDAR
VERSION:2.0
PRODID:-//eventon.com NONSGML v1.0//EN
CALSCALE:GREGORIAN
METHOD:PUBLISH
BEGIN:VEVENT
UID:69ea3a0c5ed26
DTSTAMP:20260423T152604Z
DTSTART:20220202T000000Z
DTEND:20220202T020000Z
LOCATION:
SUMMARY:King Middle School (Berkeley\,  CA)
DESCRIPTION:King Middle School (Berkeley\,  CA)\nhttps://chasingchildhooddo
 c.com/events/king-middle-school-berkeley-ca/
URL:https://chasingchildhooddoc.com/events/king-middle-school-berkeley-ca/
END:VEVENT
END:VCALENDAR