BEGIN:VCALENDAR
VERSION:2.0
PRODID:-//eventon.com NONSGML v1.0//EN
CALSCALE:GREGORIAN
METHOD:PUBLISH
BEGIN:VEVENT
UID:69ea3a78278f8
DTSTAMP:20260423T152752Z
DTSTART:20220224
DTEND:20220225
LOCATION:
SUMMARY:Northville Public Schools (Northville\,  MI)
DESCRIPTION:Northville Public Schools (Northville\,  MI)\nhttps://chasingch
 ildhooddoc.com/events/northville-public-schools-northville-mi/
URL:https://chasingchildhooddoc.com/events/northville-public-schools-northville-mi/
END:VEVENT
END:VCALENDAR