BEGIN:VCALENDAR
VERSION:2.0
PRODID:-//eventon.com NONSGML v1.0//EN
CALSCALE:GREGORIAN
METHOD:PUBLISH
BEGIN:VEVENT
UID:69ea3a0fe0b5c
DTSTAMP:20260423T152607Z
DTSTART:20220127T000000Z
DTEND:20220127T020000Z
LOCATION:
SUMMARY:Serra Parent Participation Preschool (San Clemente\,  CA)
DESCRIPTION:Serra Parent Participation Preschool (San Clemente\,  CA)\nhttp
 s://chasingchildhooddoc.com/events/serra-parent-participation-preschool-san
 -clemente-ca/
URL:https://chasingchildhooddoc.com/events/serra-parent-participation-preschool-san-clemente-ca/
END:VEVENT
END:VCALENDAR