BEGIN:VCALENDAR
VERSION:2.0
PRODID:-//eventon.com NONSGML v1.0//EN
CALSCALE:GREGORIAN
METHOD:PUBLISH
BEGIN:VEVENT
UID:69ea3a2e39786
DTSTAMP:20260423T152638Z
DTSTART:20220127T000000Z
DTEND:20220127T020000Z
LOCATION:
SUMMARY:Millburn Municipal Alliance Committee (Millburn\,  NJ)
DESCRIPTION:Millburn Municipal Alliance Committee (Millburn\,  NJ)\nhttps:/
 /chasingchildhooddoc.com/events/millburn-municipal-alliance-committee-millb
 urn-nj/
URL:https://chasingchildhooddoc.com/events/millburn-municipal-alliance-committee-millburn-nj/
END:VEVENT
END:VCALENDAR