BEGIN:VCALENDAR
VERSION:2.0
PRODID:-//eventon.com NONSGML v1.0//EN
CALSCALE:GREGORIAN
METHOD:PUBLISH
BEGIN:VEVENT
UID:69ea39ddbe4f1
DTSTAMP:20260423T152517Z
DTSTART:20220401T070000Z
DTEND:20220404T070000Z
LOCATION:RANCHO CORDOVA\,  CA 9845 Horn Road
SUMMARY:California Capital Documentary Film Festival (Rancho Cordova\,  CA)
DESCRIPTION:California Capital Documentary Film Festival (Rancho Cordova\, 
  CA)\nhttps://chasingchildhooddoc.com/events/california-capital-documentary
 -film-festival-rancho-cordova-ca/
URL:https://chasingchildhooddoc.com/events/california-capital-documentary-film-festival-rancho-cordova-ca/
END:VEVENT
END:VCALENDAR