BEGIN:VCALENDAR
VERSION:2.0
PRODID:-//eventon.com NONSGML v1.0//EN
CALSCALE:GREGORIAN
METHOD:PUBLISH
BEGIN:VEVENT
UID:69ea39d6a9236
DTSTAMP:20260423T152510Z
DTSTART:20220323T070000Z
DTEND:20220327T070000Z
LOCATION:NJ 1401 Ocean Avenue New Jersey\,  NJ 07712
SUMMARY:Garden State Film Festival (New Jersey)
DESCRIPTION:Garden State Film Festival (New Jersey)\nhttps://chasingchildho
 oddoc.com/events/garden-state-film-festival-new-jersey/
URL:https://chasingchildhooddoc.com/events/garden-state-film-festival-new-jersey/
END:VEVENT
END:VCALENDAR