BEGIN:VCALENDAR
VERSION:2.0
PRODID:-//eventon.com NONSGML v1.0//EN
CALSCALE:GREGORIAN
METHOD:PUBLISH
BEGIN:VEVENT
UID:69ea3ad074616
DTSTAMP:20260423T152920Z
DTSTART:20250221
DTEND:20250222
LOCATION:
SUMMARY:St. Peter's Episcopal Church (Savannah\,  GA)
DESCRIPTION:St. Peter's Episcopal Church (Savannah\,  GA)\nhttps://chasingc
 hildhooddoc.com/events/st-peters-episcopal-church-savannah-ga/
URL:https://chasingchildhooddoc.com/events/st-peters-episcopal-church-savannah-ga/
END:VEVENT
END:VCALENDAR