BEGIN:VCALENDAR
VERSION:2.0
PRODID:-//eventon.com NONSGML v1.0//EN
CALSCALE:GREGORIAN
METHOD:PUBLISH
BEGIN:VEVENT
UID:69ea3afb79e3e
DTSTAMP:20260423T153003Z
DTSTART:20250130
DTEND:20250131
LOCATION:
SUMMARY:Blue Hill Public Library (Blue Hill\,  ME)
DESCRIPTION:Blue Hill Public Library (Blue Hill\,  ME)\nhttps://chasingchil
 dhooddoc.com/events/blue-hill-public-library-blue-hill-me/
URL:https://chasingchildhooddoc.com/events/blue-hill-public-library-blue-hill-me/
END:VEVENT
END:VCALENDAR