BEGIN:VCALENDAR
VERSION:2.0
PRODID:-//eventon.com NONSGML v1.0//EN
CALSCALE:GREGORIAN
METHOD:PUBLISH
BEGIN:VEVENT
UID:69ea3aed8ede3
DTSTAMP:20260423T152949Z
DTSTART:20250115
DTEND:20250116
LOCATION:
SUMMARY:Ella /early language learning literacies alliance (Canada)
DESCRIPTION:Ella /early language learning literacies alliance (Canada)\nhtt
 ps://chasingchildhooddoc.com/events/ella-early-language-learning-literacies
 -alliance-canada/
URL:https://chasingchildhooddoc.com/events/ella-early-language-learning-literacies-alliance-canada/
END:VEVENT
END:VCALENDAR