BEGIN:VCALENDAR
VERSION:2.0
PRODID:-//eventon.com NONSGML v1.0//EN
CALSCALE:GREGORIAN
METHOD:PUBLISH
BEGIN:VEVENT
UID:69ea3b4514aea
DTSTAMP:20260423T153117Z
DTSTART:20250110
DTEND:20250111
LOCATION:
SUMMARY:CHS South (UK)
DESCRIPTION:CHS South (UK)\nhttps://chasingchildhooddoc.com/events/chs-sout
 h-uk/
URL:https://chasingchildhooddoc.com/events/chs-south-uk/
END:VEVENT
END:VCALENDAR