BEGIN:VCALENDAR
VERSION:2.0
PRODID:-//eventon.com NONSGML v1.0//EN
CALSCALE:GREGORIAN
METHOD:PUBLISH
BEGIN:VEVENT
UID:69ea3aed62ece
DTSTAMP:20260423T152949Z
DTSTART:20250107
DTEND:20250108
LOCATION:
SUMMARY:London Community Group (UK)
DESCRIPTION:London Community Group (UK)\nhttps://chasingchildhooddoc.com/ev
 ents/london-community-group-uk/
URL:https://chasingchildhooddoc.com/events/london-community-group-uk/
END:VEVENT
END:VCALENDAR